BEGIN:VCALENDAR
VERSION:2.0
CALSCALE:GREGORIAN
PRODID:adamgibbons/ics
METHOD:PUBLISH
X-PUBLISHED-TTL:PT1H
BEGIN:VEVENT
UID:18465@offbeat.amsterdam
SUMMARY:Pintai at Multipla
DTSTAMP:20260420T050311Z
DTSTART:20260426T110000Z
DTEND:20260426T230000Z
URL:https://offbeat.amsterdam/event/pintai-at-multipla
LOCATION:Bar Dancing Multipla - Valschermkade 16\, 1059 CD Amsterdam
STATUS:CONFIRMED
CATEGORIES:schinkelterrein,oud-zuid,community,deep house,minimal
END:VEVENT
BEGIN:VEVENT
UID:20104@offbeat.amsterdam
SUMMARY:PALET Kingsday - By Night
DTSTAMP:20260420T050311Z
DTSTART:20260427T180000Z
DTEND:20260428T010000Z
URL:https://offbeat.amsterdam/event/palet-kingsday-by-night
LOCATION:Bar Dancing Multipla - Valschermkade 16\, 1059 CD Amsterdam
STATUS:CONFIRMED
CATEGORIES:schinkelterrein,house,music,oud-zuid,disco
END:VEVENT
BEGIN:VEVENT
UID:20758@offbeat.amsterdam
SUMMARY:Bar Dancing with Arnold Ohrwurm & MOOR
DTSTAMP:20260420T050311Z
DTSTART:20260501T180000Z
DTEND:20260501T230000Z
URL:https://offbeat.amsterdam/event/bar-dancing-with-arnold-ohrwurm-and-moo
	r
LOCATION:Bar Dancing Multipla - Valschermkade 16\, 1059 CD Amsterdam
STATUS:CONFIRMED
CATEGORIES:dance,dinner,dj,oud-zuid,schinkelterrein
END:VEVENT
BEGIN:VEVENT
UID:20803@offbeat.amsterdam
SUMMARY:Bar Dancing with Caro
DTSTAMP:20260420T050311Z
DTSTART:20260502T180000Z
DTEND:20260502T230000Z
URL:https://offbeat.amsterdam/event/bar-dancing-with-caro
LOCATION:Bar Dancing Multipla - Valschermkade 16\, 1059 CD Amsterdam
STATUS:CONFIRMED
CATEGORIES:oud-zuid,dance,dinner,dj,schinkelterrein
END:VEVENT
BEGIN:VEVENT
UID:20804@offbeat.amsterdam
SUMMARY:Jonica presents Byron The Aquarius
DTSTAMP:20260420T050311Z
DTSTART:20260508T190000Z
DTEND:20260509T010000Z
URL:https://offbeat.amsterdam/event/jonica-presents-byron-the-aquarius
LOCATION:Bar Dancing Multipla - Valschermkade 16\, 1059 CD Amsterdam
STATUS:CONFIRMED
CATEGORIES:schinkelterrein,oud-zuid
END:VEVENT
BEGIN:VEVENT
UID:19887@offbeat.amsterdam
SUMMARY:Toy Tonics Jam
DTSTAMP:20260420T050311Z
DTSTART:20260522T190000Z
DTEND:20260523T020000Z
URL:https://offbeat.amsterdam/event/toy-tonics-jam-2
LOCATION:Bar Dancing Multipla - Valschermkade 16\, 1059 CD Amsterdam
STATUS:CONFIRMED
CATEGORIES:disco,house,oud-zuid,schinkelterrein
END:VEVENT
END:VCALENDAR
